Workbook

Sheet Облік годин
A1: Облік годин фрилансера
A2: Впишіть початок і кінець або лише кількість годин. Ставка береться з вкладки «Клієнти», а суми й підсумок рахуються самі.
A3: Шаблон від Hourbloom — hourbloom.app
A4: Дата | B4: Клієнт | C4: Задача | D4: Початок | E4: Кінець | F4: Години | G4: Ставка, $/год | H4: Сума, $ | I4: Нотатки
A5: 46300 | B5: Acme | C5: Концепції логотипа | D5: 0.39583333 | E5: 0.5 | F5: =IF(AND(D5<>"",E5<>""),ROUND(MOD(E5-D5,1)*24,2),"") | G5: =IF(B5="","",IFERROR(VLOOKUP(B5,'Клієнти'!$A$4:$B$33,2,FALSE),"")) | H5: =IF(OR(F5="",G5=""),"",ROUND(F5*G5,2))
A6: 46300 | B6: Acme | C6: Дзвінок із клієнтом | D6: 0.58333333 | E6: 0.61458333 | F6: =IF(AND(D6<>"",E6<>""),ROUND(MOD(E6-D6,1)*24,2),"") | G6: =IF(B6="","",IFERROR(VLOOKUP(B6,'Клієнти'!$A$4:$B$33,2,FALSE),"")) | H6: =IF(OR(F6="",G6=""),"",ROUND(F6*G6,2))
A7: 46301 | B7: Nova | C7: Лендінг | D7: 0.41666667 | E7: 0.55208333 | F7: =IF(AND(D7<>"",E7<>""),ROUND(MOD(E7-D7,1)*24,2),"") | G7: =IF(B7="","",IFERROR(VLOOKUP(B7,'Клієнти'!$A$4:$B$33,2,FALSE),"")) | H7: =IF(OR(F7="",G7=""),"",ROUND(F7*G7,2))
F8: =IF(AND(D8<>"",E8<>""),ROUND(MOD(E8-D8,1)*24,2),"") | G8: =IF(B8="","",IFERROR(VLOOKUP(B8,'Клієнти'!$A$4:$B$33,2,FALSE),"")) | H8: =IF(OR(F8="",G8=""),"",ROUND(F8*G8,2))
F9: =IF(AND(D9<>"",E9<>""),ROUND(MOD(E9-D9,1)*24,2),"") | G9: =IF(B9="","",IFERROR(VLOOKUP(B9,'Клієнти'!$A$4:$B$33,2,FALSE),"")) | H9: =IF(OR(F9="",G9=""),"",ROUND(F9*G9,2))
F10: =IF(AND(D10<>"",E10<>""),ROUND(MOD(E10-D10,1)*24,2),"") | G10: =IF(B10="","",IFERROR(VLOOKUP(B10,'Клієнти'!$A$4:$B$33,2,FALSE),"")) | H10: =IF(OR(F10="",G10=""),"",ROUND(F10*G10,2))
F11: =IF(AND(D11<>"",E11<>""),ROUND(MOD(E11-D11,1)*24,2),"") | G11: =IF(B11="","",IFERROR(VLOOKUP(B11,'Клієнти'!$A$4:$B$33,2,FALSE),"")) | H11: =IF(OR(F11="",G11=""),"",ROUND(F11*G11,2))
F12: =IF(AND(D12<>"",E12<>""),ROUND(MOD(E12-D12,1)*24,2),"") | G12: =IF(B12="","",IFERROR(VLOOKUP(B12,'Клієнти'!$A$4:$B$33,2,FALSE),"")) | H12: =IF(OR(F12="",G12=""),"",ROUND(F12*G12,2))
F13: =IF(AND(D13<>"",E13<>""),ROUND(MOD(E13-D13,1)*24,2),"") | G13: =IF(B13="","",IFERROR(VLOOKUP(B13,'Клієнти'!$A$4:$B$33,2,FALSE),"")) | H13: =IF(OR(F13="",G13=""),"",ROUND(F13*G13,2))
F14: =IF(AND(D14<>"",E14<>""),ROUND(MOD(E14-D14,1)*24,2),"") | G14: =IF(B14="","",IFERROR(VLOOKUP(B14,'Клієнти'!$A$4:$B$33,2,FALSE),"")) | H14: =IF(OR(F14="",G14=""),"",ROUND(F14*G14,2))
F15: =IF(AND(D15<>"",E15<>""),ROUND(MOD(E15-D15,1)*24,2),"") | G15: =IF(B15="","",IFERROR(VLOOKUP(B15,'Клієнти'!$A$4:$B$33,2,FALSE),"")) | H15: =IF(OR(F15="",G15=""),"",ROUND(F15*G15,2))
F16: =IF(AND(D16<>"",E16<>""),ROUND(MOD(E16-D16,1)*24,2),"") | G16: =IF(B16="","",IFERROR(VLOOKUP(B16,'Клієнти'!$A$4:$B$33,2,FALSE),"")) | H16: =IF(OR(F16="",G16=""),"",ROUND(F16*G16,2))
F17: =IF(AND(D17<>"",E17<>""),ROUND(MOD(E17-D17,1)*24,2),"") | G17: =IF(B17="","",IFERROR(VLOOKUP(B17,'Клієнти'!$A$4:$B$33,2,FALSE),"")) | H17: =IF(OR(F17="",G17=""),"",ROUND(F17*G17,2))
F18: =IF(AND(D18<>"",E18<>""),ROUND(MOD(E18-D18,1)*24,2),"") | G18: =IF(B18="","",IFERROR(VLOOKUP(B18,'Клієнти'!$A$4:$B$33,2,FALSE),"")) | H18: =IF(OR(F18="",G18=""),"",ROUND(F18*G18,2))
F19: =IF(AND(D19<>"",E19<>""),ROUND(MOD(E19-D19,1)*24,2),"") | G19: =IF(B19="","",IFERROR(VLOOKUP(B19,'Клієнти'!$A$4:$B$33,2,FALSE),"")) | H19: =IF(OR(F19="",G19=""),"",ROUND(F19*G19,2))
... F304: =IF(AND(D304<>"",E304<>""),ROUND(MOD(E304-D304,1)*24,2),"") | G304: =IF(B304="","",IFERROR(VLOOKUP(B304,'Клієнти'!$A$4:$B$33,2,FALSE),"")) | H304: =IF(OR(F304="",G304=""),"",ROUND(F304*G304,2))

Sheet Клієнти
A1: Клієнти
A2: Один рядок на клієнта. Нові рядки обліку беруть ставку звідси; щоб змінити її для одного рядка, впишіть іншу в обліку.
A3: Клієнт | B3: Ставка за годину, $
A4: Acme | B4: 40
A5: Nova | B5: 35

Sheet Підсумок
A1: Підсумок
A2: Рік | B2: 2026
A4: Місяць | B4: Години | C4: Сума, $ | D4: Оплачено, $ | E4: До отримання, $
A5: =DATE($B$2,1,1) | B5: =SUMIFS('Облік годин'!$F$5:$F$304,'Облік годин'!$A$5:$A$304,">="&A5,'Облік годин'!$A$5:$A$304,"<"&EDATE(A5,1)) | C5: =SUMIFS('Облік годин'!$H$5:$H$304,'Облік годин'!$A$5:$A$304,">="&A5,'Облік годин'!$A$5:$A$304,"<"&EDATE(A5,1)) | E5: =C5-N(D5)
A6: =EDATE(A5,1) | B6: =SUMIFS('Облік годин'!$F$5:$F$304,'Облік годин'!$A$5:$A$304,">="&A6,'Облік годин'!$A$5:$A$304,"<"&EDATE(A6,1)) | C6: =SUMIFS('Облік годин'!$H$5:$H$304,'Облік годин'!$A$5:$A$304,">="&A6,'Облік годин'!$A$5:$A$304,"<"&EDATE(A6,1)) | E6: =C6-N(D6)
A7: =EDATE(A6,1) | B7: =SUMIFS('Облік годин'!$F$5:$F$304,'Облік годин'!$A$5:$A$304,">="&A7,'Облік годин'!$A$5:$A$304,"<"&EDATE(A7,1)) | C7: =SUMIFS('Облік годин'!$H$5:$H$304,'Облік годин'!$A$5:$A$304,">="&A7,'Облік годин'!$A$5:$A$304,"<"&EDATE(A7,1)) | E7: =C7-N(D7)
A8: =EDATE(A7,1) | B8: =SUMIFS('Облік годин'!$F$5:$F$304,'Облік годин'!$A$5:$A$304,">="&A8,'Облік годин'!$A$5:$A$304,"<"&EDATE(A8,1)) | C8: =SUMIFS('Облік годин'!$H$5:$H$304,'Облік годин'!$A$5:$A$304,">="&A8,'Облік годин'!$A$5:$A$304,"<"&EDATE(A8,1)) | E8: =C8-N(D8)
A9: =EDATE(A8,1) | B9: =SUMIFS('Облік годин'!$F$5:$F$304,'Облік годин'!$A$5:$A$304,">="&A9,'Облік годин'!$A$5:$A$304,"<"&EDATE(A9,1)) | C9: =SUMIFS('Облік годин'!$H$5:$H$304,'Облік годин'!$A$5:$A$304,">="&A9,'Облік годин'!$A$5:$A$304,"<"&EDATE(A9,1)) | E9: =C9-N(D9)
A10: =EDATE(A9,1) | B10: =SUMIFS('Облік годин'!$F$5:$F$304,'Облік годин'!$A$5:$A$304,">="&A10,'Облік годин'!$A$5:$A$304,"<"&EDATE(A10,1)) | C10: =SUMIFS('Облік годин'!$H$5:$H$304,'Облік годин'!$A$5:$A$304,">="&A10,'Облік годин'!$A$5:$A$304,"<"&EDATE(A10,1)) | E10: =C10-N(D10)
A11: =EDATE(A10,1) | B11: =SUMIFS('Облік годин'!$F$5:$F$304,'Облік годин'!$A$5:$A$304,">="&A11,'Облік годин'!$A$5:$A$304,"<"&EDATE(A11,1)) | C11: =SUMIFS('Облік годин'!$H$5:$H$304,'Облік годин'!$A$5:$A$304,">="&A11,'Облік годин'!$A$5:$A$304,"<"&EDATE(A11,1)) | E11: =C11-N(D11)
A12: =EDATE(A11,1) | B12: =SUMIFS('Облік годин'!$F$5:$F$304,'Облік годин'!$A$5:$A$304,">="&A12,'Облік годин'!$A$5:$A$304,"<"&EDATE(A12,1)) | C12: =SUMIFS('Облік годин'!$H$5:$H$304,'Облік годин'!$A$5:$A$304,">="&A12,'Облік годин'!$A$5:$A$304,"<"&EDATE(A12,1)) | E12: =C12-N(D12)
A13: =EDATE(A12,1) | B13: =SUMIFS('Облік годин'!$F$5:$F$304,'Облік годин'!$A$5:$A$304,">="&A13,'Облік годин'!$A$5:$A$304,"<"&EDATE(A13,1)) | C13: =SUMIFS('Облік годин'!$H$5:$H$304,'Облік годин'!$A$5:$A$304,">="&A13,'Облік годин'!$A$5:$A$304,"<"&EDATE(A13,1)) | E13: =C13-N(D13)
A14: =EDATE(A13,1) | B14: =SUMIFS('Облік годин'!$F$5:$F$304,'Облік годин'!$A$5:$A$304,">="&A14,'Облік годин'!$A$5:$A$304,"<"&EDATE(A14,1)) | C14: =SUMIFS('Облік годин'!$H$5:$H$304,'Облік годин'!$A$5:$A$304,">="&A14,'Облік годин'!$A$5:$A$304,"<"&EDATE(A14,1)) | E14: =C14-N(D14)
A15: =EDATE(A14,1) | B15: =SUMIFS('Облік годин'!$F$5:$F$304,'Облік годин'!$A$5:$A$304,">="&A15,'Облік годин'!$A$5:$A$304,"<"&EDATE(A15,1)) | C15: =SUMIFS('Облік годин'!$H$5:$H$304,'Облік годин'!$A$5:$A$304,">="&A15,'Облік годин'!$A$5:$A$304,"<"&EDATE(A15,1)) | E15: =C15-N(D15)
A16: =EDATE(A15,1) | B16: =SUMIFS('Облік годин'!$F$5:$F$304,'Облік годин'!$A$5:$A$304,">="&A16,'Облік годин'!$A$5:$A$304,"<"&EDATE(A16,1)) | C16: =SUMIFS('Облік годин'!$H$5:$H$304,'Облік годин'!$A$5:$A$304,">="&A16,'Облік годин'!$A$5:$A$304,"<"&EDATE(A16,1)) | E16: =C16-N(D16)
A17: Разом | B17: =SUM(B5:B16) | C17: =SUM(C5:C16) | D17: =SUM(D5:D16) | E17: =SUM(E5:E16)
A19: За клієнтами, за рік
A20: Клієнт | B20: Години | C20: Сума, $
A21: =IF('Клієнти'!A4="","",'Клієнти'!A4) | B21: =IF(A21="","",SUMIFS('Облік годин'!$F$5:$F$304,'Облік годин'!$B$5:$B$304,A21,'Облік годин'!$A$5:$A$304,">="&DATE($B$2,1,1),'Облік годин'!$A$5:$A$304,"<"&DATE($B$2+1,1,1))) | C21: =IF(A21="","",SUMIFS('Облік годин'!$H$5:$H$304,'Облік годин'!$B$5:$B$304,A21,'Облік годин'!$A$5:$A$304,">="&DATE($B$2,1,1),'Облік годин'!$A$5:$A$304,"<"&DATE($B$2+1,1,1)))
A22: =IF('Клієнти'!A5="","",'Клієнти'!A5) | B22: =IF(A22="","",SUMIFS('Облік годин'!$F$5:$F$304,'Облік годин'!$B$5:$B$304,A22,'Облік годин'!$A$5:$A$304,">="&DATE($B$2,1,1),'Облік годин'!$A$5:$A$304,"<"&DATE($B$2+1,1,1))) | C22: =IF(A22="","",SUMIFS('Облік годин'!$H$5:$H$304,'Облік годин'!$B$5:$B$304,A22,'Облік годин'!$A$5:$A$304,">="&DATE($B$2,1,1),'Облік годин'!$A$5:$A$304,"<"&DATE($B$2+1,1,1)))
A23: =IF('Клієнти'!A6="","",'Клієнти'!A6) | B23: =IF(A23="","",SUMIFS('Облік годин'!$F$5:$F$304,'Облік годин'!$B$5:$B$304,A23,'Облік годин'!$A$5:$A$304,">="&DATE($B$2,1,1),'Облік годин'!$A$5:$A$304,"<"&DATE($B$2+1,1,1))) | C23: =IF(A23="","",SUMIFS('Облік годин'!$H$5:$H$304,'Облік годин'!$B$5:$B$304,A23,'Облік годин'!$A$5:$A$304,">="&DATE($B$2,1,1),'Облік годин'!$A$5:$A$304,"<"&DATE($B$2+1,1,1)))
A24: =IF('Клієнти'!A7="","",'Клієнти'!A7) | B24: =IF(A24="","",SUMIFS('Облік годин'!$F$5:$F$304,'Облік годин'!$B$5:$B$304,A24,'Облік годин'!$A$5:$A$304,">="&DATE($B$2,1,1),'Облік годин'!$A$5:$A$304,"<"&DATE($B$2+1,1,1))) | C24: =IF(A24="","",SUMIFS('Облік годин'!$H$5:$H$304,'Облік годин'!$B$5:$B$304,A24,'Облік годин'!$A$5:$A$304,">="&DATE($B$2,1,1),'Облік годин'!$A$5:$A$304,"<"&DATE($B$2+1,1,1)))
A25: =IF('Клієнти'!A8="","",'Клієнти'!A8) | B25: =IF(A25="","",SUMIFS('Облік годин'!$F$5:$F$304,'Облік годин'!$B$5:$B$304,A25,'Облік годин'!$A$5:$A$304,">="&DATE($B$2,1,1),'Облік годин'!$A$5:$A$304,"<"&DATE($B$2+1,1,1))) | C25: =IF(A25="","",SUMIFS('Облік годин'!$H$5:$H$304,'Облік годин'!$B$5:$B$304,A25,'Облік годин'!$A$5:$A$304,">="&DATE($B$2,1,1),'Облік годин'!$A$5:$A$304,"<"&DATE($B$2+1,1,1)))
A26: =IF('Клієнти'!A9="","",'Клієнти'!A9) | B26: =IF(A26="","",SUMIFS('Облік годин'!$F$5:$F$304,'Облік годин'!$B$5:$B$304,A26,'Облік годин'!$A$5:$A$304,">="&DATE($B$2,1,1),'Облік годин'!$A$5:$A$304,"<"&DATE($B$2+1,1,1))) | C26: =IF(A26="","",SUMIFS('Облік годин'!$H$5:$H$304,'Облік годин'!$B$5:$B$304,A26,'Облік годин'!$A$5:$A$304,">="&DATE($B$2,1,1),'Облік годин'!$A$5:$A$304,"<"&DATE($B$2+1,1,1)))
A27: =IF('Клієнти'!A10="","",'Клієнти'!A10) | B27: =IF(A27="","",SUMIFS('Облік годин'!$F$5:$F$304,'Облік годин'!$B$5:$B$304,A27,'Облік годин'!$A$5:$A$304,">="&DATE($B$2,1,1),'Облік годин'!$A$5:$A$304,"<"&DATE($B$2+1,1,1))) | C27: =IF(A27="","",SUMIFS('Облік годин'!$H$5:$H$304,'Облік годин'!$B$5:$B$304,A27,'Облік годин'!$A$5:$A$304,">="&DATE($B$2,1,1),'Облік годин'!$A$5:$A$304,"<"&DATE($B$2+1,1,1)))
A28: =IF('Клієнти'!A11="","",'Клієнти'!A11) | B28: =IF(A28="","",SUMIFS('Облік годин'!$F$5:$F$304,'Облік годин'!$B$5:$B$304,A28,'Облік годин'!$A$5:$A$304,">="&DATE($B$2,1,1),'Облік годин'!$A$5:$A$304,"<"&DATE($B$2+1,1,1))) | C28: =IF(A28="","",SUMIFS('Облік годин'!$H$5:$H$304,'Облік годин'!$B$5:$B$304,A28,'Облік годин'!$A$5:$A$304,">="&DATE($B$2,1,1),'Облік годин'!$A$5:$A$304,"<"&DATE($B$2+1,1,1)))
A29: =IF('Клієнти'!A12="","",'Клієнти'!A12) | B29: =IF(A29="","",SUMIFS('Облік годин'!$F$5:$F$304,'Облік годин'!$B$5:$B$304,A29,'Облік годин'!$A$5:$A$304,">="&DATE($B$2,1,1),'Облік годин'!$A$5:$A$304,"<"&DATE($B$2+1,1,1))) | C29: =IF(A29="","",SUMIFS('Облік годин'!$H$5:$H$304,'Облік годин'!$B$5:$B$304,A29,'Облік годин'!$A$5:$A$304,">="&DATE($B$2,1,1),'Облік годин'!$A$5:$A$304,"<"&DATE($B$2+1,1,1)))
A30: =IF('Клієнти'!A13="","",'Клієнти'!A13) | B30: =IF(A30="","",SUMIFS('Облік годин'!$F$5:$F$304,'Облік годин'!$B$5:$B$304,A30,'Облік годин'!$A$5:$A$304,">="&DATE($B$2,1,1),'Облік годин'!$A$5:$A$304,"<"&DATE($B$2+1,1,1))) | C30: =IF(A30="","",SUMIFS('Облік годин'!$H$5:$H$304,'Облік годин'!$B$5:$B$304,A30,'Облік годин'!$A$5:$A$304,">="&DATE($B$2,1,1),'Облік годин'!$A$5:$A$304,"<"&DATE($B$2+1,1,1)))
A31: =IF('Клієнти'!A14="","",'Клієнти'!A14) | B31: =IF(A31="","",SUMIFS('Облік годин'!$F$5:$F$304,'Облік годин'!$B$5:$B$304,A31,'Облік годин'!$A$5:$A$304,">="&DATE($B$2,1,1),'Облік годин'!$A$5:$A$304,"<"&DATE($B$2+1,1,1))) | C31: =IF(A31="","",SUMIFS('Облік годин'!$H$5:$H$304,'Облік годин'!$B$5:$B$304,A31,'Облік годин'!$A$5:$A$304,">="&DATE($B$2,1,1),'Облік годин'!$A$5:$A$304,"<"&DATE($B$2+1,1,1)))
A32: =IF('Клієнти'!A15="","",'Клієнти'!A15) | B32: =IF(A32="","",SUMIFS('Облік годин'!$F$5:$F$304,'Облік годин'!$B$5:$B$304,A32,'Облік годин'!$A$5:$A$304,">="&DATE($B$2,1,1),'Облік годин'!$A$5:$A$304,"<"&DATE($B$2+1,1,1))) | C32: =IF(A32="","",SUMIFS('Облік годин'!$H$5:$H$304,'Облік годин'!$B$5:$B$304,A32,'Облік годин'!$A$5:$A$304,">="&DATE($B$2,1,1),'Облік годин'!$A$5:$A$304,"<"&DATE($B$2+1,1,1)))
... A50: =IF('Клієнти'!A33="","",'Клієнти'!A33) | B50: =IF(A50="","",SUMIFS('Облік годин'!$F$5:$F$304,'Облік годин'!$B$5:$B$304,A50,'Облік годин'!$A$5:$A$304,">="&DATE($B$2,1,1),'Облік годин'!$A$5:$A$304,"<"&DATE($B$2+1,1,1))) | C50: =IF(A50="","",SUMIFS('Облік годин'!$H$5:$H$304,'Облік годин'!$B$5:$B$304,A50,'Облік годин'!$A$5:$A$304,">="&DATE($B$2,1,1),'Облік годин'!$A$5:$A$304,"<"&DATE($B$2+1,1,1)))
